BEGIN:VCALENDAR
VERSION:2.0
PRODID:-//www.experienceindianriver.com - ECPv5.15.0.1//NONSGML v1.0//EN
CALSCALE:GREGORIAN
METHOD:PUBLISH
X-WR-CALNAME:www.experienceindianriver.com
X-ORIGINAL-URL:https://www.experienceindianriver.com
X-WR-CALDESC:Events for www.experienceindianriver.com
BEGIN:VTIMEZONE
TZID:America/Detroit
BEGIN:DAYLIGHT
TZOFFSETFROM:-0500
TZOFFSETTO:-0400
TZNAME:EDT
DTSTART:20230312T070000
END:DAYLIGHT
BEGIN:STANDARD
TZOFFSETFROM:-0400
TZOFFSETTO:-0500
TZNAME:EST
DTSTART:20231105T060000
END:STANDARD
END:VTIMEZONE
BEGIN:VEVENT
DTSTART;TZID=America/Detroit:20230203T060000
DTEND;TZID=America/Detroit:20230204T233000
DTSTAMP:20260419T125736
CREATED:20230117T173622Z
LAST-MODIFIED:20230117T232710Z
UID:2989-1675404000-1675553400@www.experienceindianriver.com
SUMMARY:Winterfest - 2023
DESCRIPTION:Come out of hibernation – Shake off the winter blues and enjoy a fun-filled weekend! \nFriday\, February 3 \n\n6:00 am: Intergenerational Fishing Competition: Time for the generational teams to come together and enjoy fishing on our beautiful waterways. Registration is free\, required\, and available online or at the Chamber office. Kiwanis Club of Indian River donated fishing poles for community use and can be checked out at the Indian River Area Library.\n\nOnline registration: https://form.jotform.com/230134349019147\n\n\n6:00 am: ‘Where’s Indi Scavenger Hunt’ starting at 6am Friday to 3pm on Saturday\, or until Indi is found. Cash prize is $250.\n6:00 pm: Entertainment Tent Opens: Join us at Northland Brewery for entertainment by Lavender Lions\, plus some great brew\, and food.\nFree Shuttle service is provided to and from local lodging facilities from 5 p.m. to 2 a.m. courtesy of the Indian River Area Convention & Visitors Bureau\n\nSaturday\, February 4 \n\n1:00 pm: Chilimanaia Cook-off: Enjoy delicious chili\, entertainment by DJ Caleb Walters\, and community connections at the Chamber parking lot. Free to spectators. Registration for chili masters is free\, required\, and available online or at the Chamber office.\n\nOnline registration: https://form.jotform.com/230138572219151\n\n\n4:30 pm: Awards Announcement: Winners of the Intergenerational Fishing Competition and Chilimania Cook-off awards ceremony at the Chamber parking lot.\n6:00 pm: Entertainment Tent Opens: Northland Brewery\, entertainment by Chris Michels Band\, plus some great brew and food.\n\nEntertainment tickets purchased for both nights prior to Friday at the Chamber office or Friday night at the tent come with a complimentary drink ticket\, redeemable during the festival weekend at the Brass Rail\, Pinehurst\, or The Station at 310.\n\n\nFree Shuttle service is provided to and from local lodging facilities from 5 p.m. to 2 a.m. courtesy of the Indian River Area Convention & Visitors Bureau\n\nOther Info \n\nThe following site will be continually updated as new information becomes available: https://irchamber.com/event-schedule/indian-river-winterfest/\nPlease contact the Indian River Chamber of Commerce for any questions: 231-238-9325
URL:https://www.experienceindianriver.com/event/winterfest/
ATTACH;FMTTYPE=image/jpeg:https://www.experienceindianriver.com/wp-content/uploads/2023/01/Winterfest-Yard-Sign-scaled.jpg
END:VEVENT
END:VCALENDAR