BEGIN:VCALENDAR
VERSION:2.0
PRODID:-//www.experienceindianriver.com - ECPv5.15.0.1//NONSGML v1.0//EN
CALSCALE:GREGORIAN
METHOD:PUBLISH
X-WR-CALNAME:www.experienceindianriver.com
X-ORIGINAL-URL:https://www.experienceindianriver.com
X-WR-CALDESC:Events for www.experienceindianriver.com
BEGIN:VTIMEZONE
TZID:UTC
BEGIN:STANDARD
TZOFFSETFROM:+0000
TZOFFSETTO:+0000
TZNAME:UTC
DTSTART:20220101T000000
END:STANDARD
END:VTIMEZONE
BEGIN:VEVENT
DTSTART;VALUE=DATE:20220528
DTEND;VALUE=DATE:20220530
DTSTAMP:20260419T124552
CREATED:20220527T184549Z
LAST-MODIFIED:20220527T185752Z
UID:1909-1653696000-1653868799@www.experienceindianriver.com
SUMMARY:Music\, Wine\, and Craft Beer Fest
DESCRIPTION:Will features 50 wines and over 60 craft beers\, and live music
URL:https://www.experienceindianriver.com/event/music-wine-and-craft-beer-fest/
LOCATION:Mackinaw City\, MI\, United States
CATEGORIES:Events
END:VEVENT
END:VCALENDAR