BEGIN:VCALENDAR
VERSION:2.0
PRODID:-//www.experienceindianriver.com - ECPv5.15.0.1//NONSGML v1.0//EN
CALSCALE:GREGORIAN
METHOD:PUBLISH
X-WR-CALNAME:www.experienceindianriver.com
X-ORIGINAL-URL:https://www.experienceindianriver.com
X-WR-CALDESC:Events for www.experienceindianriver.com
BEGIN:VTIMEZONE
TZID:UTC
BEGIN:STANDARD
TZOFFSETFROM:+0000
TZOFFSETTO:+0000
TZNAME:UTC
DTSTART:20220101T000000
END:STANDARD
END:VTIMEZONE
BEGIN:VEVENT
DTSTART;TZID=UTC:20220917T073000
DTEND;TZID=UTC:20220917T170000
DTSTAMP:20260420T042302
CREATED:20220801T170753Z
LAST-MODIFIED:20220801T172349Z
UID:2529-1663399800-1663434000@www.experienceindianriver.com
SUMMARY:Millersburg Ride
DESCRIPTION:
URL:https://www.experienceindianriver.com/event/millersburg-ride/
LOCATION:Brentwood Lodging\, 4778 S Straits Hwy\, Indian River\, MI\, 49749\, United States
ATTACH;FMTTYPE=image/jpeg:https://www.experienceindianriver.com/wp-content/uploads/2022/08/IMG_5741-scaled.jpg
END:VEVENT
END:VCALENDAR