BEGIN:VCALENDAR
VERSION:2.0
PRODID:-//www.experienceindianriver.com - ECPv5.15.0.1//NONSGML v1.0//EN
CALSCALE:GREGORIAN
METHOD:PUBLISH
X-WR-CALNAME:www.experienceindianriver.com
X-ORIGINAL-URL:https://www.experienceindianriver.com
X-WR-CALDESC:Events for www.experienceindianriver.com
BEGIN:VTIMEZONE
TZID:UTC
BEGIN:STANDARD
TZOFFSETFROM:+0000
TZOFFSETTO:+0000
TZNAME:UTC
DTSTART:20220101T000000
END:STANDARD
END:VTIMEZONE
BEGIN:VEVENT
DTSTART;TZID=UTC:20220527T080000
DTEND;TZID=UTC:20220527T170000
DTSTAMP:20260419T141159
CREATED:20220527T190604Z
LAST-MODIFIED:20220527T190604Z
UID:1936-1653638400-1653670800@www.experienceindianriver.com
SUMMARY:Blissfest
DESCRIPTION:A celebration of community\, art\, culture\, and music featuring world\, roots\, and folk music
URL:https://www.experienceindianriver.com/event/blissfest/
LOCATION:Petoskey\, MI\, United States
CATEGORIES:Events
END:VEVENT
END:VCALENDAR