BEGIN:VCALENDAR
VERSION:2.0
PRODID:-//www.experienceindianriver.com - ECPv5.15.0.1//NONSGML v1.0//EN
CALSCALE:GREGORIAN
METHOD:PUBLISH
X-WR-CALNAME:www.experienceindianriver.com
X-ORIGINAL-URL:https://www.experienceindianriver.com
X-WR-CALDESC:Events for www.experienceindianriver.com
BEGIN:VTIMEZONE
TZID:America/Detroit
BEGIN:DAYLIGHT
TZOFFSETFROM:-0500
TZOFFSETTO:-0400
TZNAME:EDT
DTSTART:20230312T070000
END:DAYLIGHT
BEGIN:STANDARD
TZOFFSETFROM:-0400
TZOFFSETTO:-0500
TZNAME:EST
DTSTART:20231105T060000
END:STANDARD
END:VTIMEZONE
BEGIN:VEVENT
DTSTART;VALUE=DATE:20230203
DTEND;VALUE=DATE:20230205
DTSTAMP:20260419T111930
CREATED:20221219T004457Z
LAST-MODIFIED:20221219T004625Z
UID:2931-1675382400-1675555199@www.experienceindianriver.com
SUMMARY:Black Lake Sturgeon Shivaree
DESCRIPTION:Black Lake Sturgeon Shivaree Feb 3-4\, 2023. Activities for this event will be on Black Lake in front of the former Black Lake Hotel. The Shivaree will coincide with the opening of the Black Lake Sturgeon season\, which opens on Saturday\, February 4.
URL:https://www.experienceindianriver.com/event/black-lake-sturgeon-shivaree/
ATTACH;FMTTYPE=image/jpeg:https://www.experienceindianriver.com/wp-content/uploads/2022/12/80013ADF-6430-4396-8C5F-64258CBAF79F.jpeg
END:VEVENT
END:VCALENDAR