BEGIN:VCALENDAR
VERSION:2.0
PRODID:-//www.experienceindianriver.com - ECPv5.15.0.1//NONSGML v1.0//EN
CALSCALE:GREGORIAN
METHOD:PUBLISH
X-WR-CALNAME:www.experienceindianriver.com
X-ORIGINAL-URL:https://www.experienceindianriver.com
X-WR-CALDESC:Events for www.experienceindianriver.com
BEGIN:VTIMEZONE
TZID:UTC
BEGIN:STANDARD
TZOFFSETFROM:+0000
TZOFFSETTO:+0000
TZNAME:UTC
DTSTART:20220101T000000
END:STANDARD
END:VTIMEZONE
BEGIN:VEVENT
DTSTART;VALUE=DATE:20220623
DTEND;VALUE=DATE:20220627
DTSTAMP:20260419T093034
CREATED:20220527T185315Z
LAST-MODIFIED:20220527T185644Z
UID:1912-1655942400-1656287999@www.experienceindianriver.com
SUMMARY:Annual Car Show
DESCRIPTION:Big ol’ car show that covers all makes\, models\, and is one of the largest shows of its kind!
URL:https://www.experienceindianriver.com/event/annual-car-show/
LOCATION:St Ignace\, MI\, United States
CATEGORIES:Events
END:VEVENT
END:VCALENDAR